BEGIN:VCALENDAR
VERSION:2.0
PRODID:icalendar-ruby
CALSCALE:GREGORIAN
BEGIN:VEVENT
DTSTAMP:20260420T150021Z
UID:a777e922-2403-4b8e-ab5d-69c622edd492
DTSTART:20260429T000000
DTEND:20260429T030000
DESCRIPTION:saturdays at your place live in concert at The Astor Theatre
LOCATION:The Astor Theatre\, Perth\, \, Australia
ORGANIZER:mailto:events@ampwrecked.com
SUMMARY:saturdays at your place - saturdays at your place at The Astor Thea
 tre
END:VEVENT
END:VCALENDAR
