BEGIN:VCALENDAR
VERSION:2.0
PRODID:icalendar-ruby
CALSCALE:GREGORIAN
BEGIN:VEVENT
DTSTAMP:20260420T145947Z
UID:a4a263df-56f0-4733-be79-896ea0da58db
DTSTART:20260427T000000
DTEND:20260427T030000
DESCRIPTION:saturdays at your place live in concert at The Gov
LOCATION:The Gov\, Hindmarsh\, \, Australia
ORGANIZER:mailto:events@ampwrecked.com
SUMMARY:saturdays at your place - saturdays at your place at The Gov
END:VEVENT
END:VCALENDAR
