BEGIN:VCALENDAR
VERSION:2.0
PRODID:icalendar-ruby
CALSCALE:GREGORIAN
BEGIN:VEVENT
DTSTAMP:20260419T144140Z
UID:72b4ec21-539e-43fc-b798-64e6fa40ac0b
DTSTART:20260426T000000
DTEND:20260426T030000
DESCRIPTION:saturdays at your place live in concert at Roundhouse
LOCATION:Roundhouse\, Sydney\, \, Australia
ORGANIZER:mailto:events@ampwrecked.com
SUMMARY:saturdays at your place - saturdays at your place at Roundhouse
END:VEVENT
END:VCALENDAR
