BEGIN:VCALENDAR
VERSION:2.0
PRODID:icalendar-ruby
CALSCALE:GREGORIAN
BEGIN:VEVENT
DTSTAMP:20260419T125127Z
UID:42b0a975-bfcd-44be-8592-8ae9992b6dbd
DTSTART:20260425T000000
DTEND:20260425T030000
DESCRIPTION:saturdays at your place live in concert at The Fortitude Music 
 Hall
LOCATION:The Fortitude Music Hall\, Brisbane\, \, Australia
ORGANIZER:mailto:events@ampwrecked.com
SUMMARY:saturdays at your place - saturdays at your place at The Fortitude 
 Music Hall
END:VEVENT
END:VCALENDAR
