BEGIN:VCALENDAR
VERSION:2.0
PRODID:icalendar-ruby
CALSCALE:GREGORIAN
BEGIN:VEVENT
DTSTAMP:20260420T150238Z
UID:6e83dd4f-7465-4aaf-ada9-06bb4f96c44c
DTSTART:20261003T000000
DTEND:20261003T030000
DESCRIPTION:sinema live in concert at King Street Hotel
LOCATION:King Street Hotel\, Newcastle\, \, Australia
ORGANIZER:mailto:events@ampwrecked.com
SUMMARY:sinema - sinema at King Street Hotel
END:VEVENT
END:VCALENDAR
