BEGIN:VCALENDAR
VERSION:2.0
PRODID:icalendar-ruby
CALSCALE:GREGORIAN
BEGIN:VEVENT
DTSTAMP:20260420T150228Z
UID:d0145c86-9ec3-4c8e-b694-32fabffce0bb
DTSTART:20261002T000000
DTEND:20261002T030000
DESCRIPTION:sinema live in concert at Liberty Hall
LOCATION:Liberty Hall\, Moore Park\, \, Australia
ORGANIZER:mailto:events@ampwrecked.com
SUMMARY:sinema - sinema at Liberty Hall
END:VEVENT
END:VCALENDAR
