BEGIN:VCALENDAR
VERSION:2.0
PRODID:icalendar-ruby
CALSCALE:GREGORIAN
BEGIN:VEVENT
DTSTAMP:20260420T131325Z
UID:c8e0889d-42bb-4570-9a38-a0b593ec9f3d
DTSTART:20261001T000000
DTEND:20261001T030000
DESCRIPTION:sinema live in concert at 170 Russell
LOCATION:170 Russell\, Melbourne\, \, Australia
ORGANIZER:mailto:events@ampwrecked.com
SUMMARY:sinema - sinema at 170 Russell
END:VEVENT
END:VCALENDAR
