BEGIN:VCALENDAR
VERSION:2.0
PRODID:icalendar-ruby
CALSCALE:GREGORIAN
BEGIN:VEVENT
DTSTAMP:20260420T113707Z
UID:c3e92b16-7919-408c-a694-68ee7f8200b8
DTSTART:20260929T000000
DTEND:20260929T030000
DESCRIPTION:sinema live in concert at The Gov
LOCATION:The Gov\, Hindmarsh\, \, Australia
ORGANIZER:mailto:events@ampwrecked.com
SUMMARY:sinema - sinema at The Gov
END:VEVENT
END:VCALENDAR
