BEGIN:VCALENDAR
VERSION:2.0
PRODID:icalendar-ruby
CALSCALE:GREGORIAN
BEGIN:VEVENT
DTSTAMP:20260420T113625Z
UID:f3f2e1a7-6dd1-48b8-8094-6c80f34db45d
DTSTART:20260927T000000
DTEND:20260927T030000
DESCRIPTION:sinema live in concert at Freo.Social
LOCATION:Freo.Social\, Fremantle\, \, Australia
ORGANIZER:mailto:events@ampwrecked.com
SUMMARY:sinema - sinema at Freo.Social
END:VEVENT
END:VCALENDAR
