BEGIN:VCALENDAR
VERSION:2.0
PRODID:icalendar-ruby
CALSCALE:GREGORIAN
BEGIN:VEVENT
DTSTAMP:20260420T150151Z
UID:9d94c5c3-7b19-4605-a273-59efc672263b
DTSTART:20260427T000000
DTEND:20260427T030000
DESCRIPTION:Lorna Shore live in concert at Burton Cummings Theatre
LOCATION:Burton Cummings Theatre\, Winnipeg\, MB\, USA
ORGANIZER:mailto:events@ampwrecked.com
SUMMARY:Lorna Shore - Lorna Shore at Burton Cummings Theatre
END:VEVENT
END:VCALENDAR
