BEGIN:VCALENDAR
VERSION:2.0
PRODID:icalendar-ruby
CALSCALE:GREGORIAN
BEGIN:VEVENT
DTSTAMP:20260421T015515Z
UID:25727d1e-98bd-4868-9bcf-aa02e9b7e692
DTSTART:20260424T000000
DTEND:20260424T030000
DESCRIPTION:Lit live in concert at E-Werk
LOCATION:E-Werk\, Köln\, \, Germany
ORGANIZER:mailto:events@ampwrecked.com
SUMMARY:Lit - Lit at E-Werk
END:VEVENT
END:VCALENDAR
