BEGIN:VCALENDAR
VERSION:2.0
PRODID:icalendar-ruby
CALSCALE:GREGORIAN
BEGIN:VEVENT
DTSTAMP:20260421T002143Z
UID:51ef5a0b-019c-4794-86ef-891408261f59
DTSTART:20260423T000000
DTEND:20260423T030000
DESCRIPTION:Lit live in concert at LKA Longhorn
LOCATION:LKA Longhorn\, Stuttgart\, \, Germany
ORGANIZER:mailto:events@ampwrecked.com
SUMMARY:Lit - Lit at LKA Longhorn
END:VEVENT
END:VCALENDAR
