BEGIN:VCALENDAR
VERSION:2.0
PRODID:icalendar-ruby
CALSCALE:GREGORIAN
BEGIN:VEVENT
DTSTAMP:20260421T002019Z
UID:8130c82d-c165-4fdd-ac2c-5c272446c0b2
DTSTART:20260422T000000
DTEND:20260422T030000
DESCRIPTION:Lit live in concert at Backstage
LOCATION:Backstage\, München\, \, Germany
ORGANIZER:mailto:events@ampwrecked.com
SUMMARY:Lit - Lit at Backstage
END:VEVENT
END:VCALENDAR
