BEGIN:VCALENDAR
VERSION:2.0
PRODID:icalendar-ruby
CALSCALE:GREGORIAN
BEGIN:VEVENT
DTSTAMP:20260421T001743Z
UID:e5e71c8a-50cd-4559-9afd-fca40ebbfae2
DTSTART:20260421T000000
DTEND:20260421T030000
DESCRIPTION:Lit live in concert at Schlachthof Wiesbaden
LOCATION:Schlachthof Wiesbaden\, Wiesbaden\, \, Germany
ORGANIZER:mailto:events@ampwrecked.com
SUMMARY:Lit - Lit at Schlachthof Wiesbaden
END:VEVENT
END:VCALENDAR
