BEGIN:VCALENDAR
VERSION:2.0
PRODID:icalendar-ruby
CALSCALE:GREGORIAN
BEGIN:VEVENT
DTSTAMP:20260423T115434Z
UID:fa5c0764-b37b-4914-b47e-0b92ad2e7d4f
DTSTART:20260515T000000
DTEND:20260515T030000
DESCRIPTION:Kublai Khan TX live in concert at Sonic Temple 2026
LOCATION:Sonic Temple 2026\, Columbus\, OH\, USA
ORGANIZER:mailto:events@ampwrecked.com
SUMMARY:Kublai Khan TX - Kublai Khan TX at Sonic Temple 2026
END:VEVENT
END:VCALENDAR
