BEGIN:VCALENDAR
VERSION:2.0
PRODID:icalendar-ruby
CALSCALE:GREGORIAN
BEGIN:VEVENT
DTSTAMP:20260420T150745Z
UID:d48f0aa8-4268-42cf-9540-1a37ea7acf5b
DTSTART:20260426T000000
DTEND:20260426T030000
DESCRIPTION:Kublai Khan TX live in concert at MGM Music Hall at Fenway
LOCATION:MGM Music Hall at Fenway\, Boston\, MA\, USA
ORGANIZER:mailto:events@ampwrecked.com
SUMMARY:Kublai Khan TX - Kublai Khan TX at MGM Music Hall at Fenway
END:VEVENT
END:VCALENDAR
