BEGIN:VCALENDAR
VERSION:2.0
PRODID:icalendar-ruby
CALSCALE:GREGORIAN
BEGIN:VEVENT
DTSTAMP:20260420T164258Z
UID:264a4f5e-e749-4b00-b476-72e7f80db61a
DTSTART:20260425T000000
DTEND:20260425T030000
DESCRIPTION:Kublai Khan TX live in concert at Mohegan Sun Arena
LOCATION:Mohegan Sun Arena\, Uncasville\, CT\, USA
ORGANIZER:mailto:events@ampwrecked.com
SUMMARY:Kublai Khan TX - Kublai Khan TX at Mohegan Sun Arena
END:VEVENT
END:VCALENDAR
