BEGIN:VCALENDAR
VERSION:2.0
PRODID:icalendar-ruby
CALSCALE:GREGORIAN
BEGIN:VEVENT
DTSTAMP:20260423T101918Z
UID:1b4980c4-c95a-44be-a669-af0aca97a2ad
DTSTART:20260423T000000
DTEND:20260423T030000
DESCRIPTION:Kublai Khan TX live in concert at Brooklyn Paramount
LOCATION:Brooklyn Paramount\, Brooklyn\, NY\, USA
ORGANIZER:mailto:events@ampwrecked.com
SUMMARY:Kublai Khan TX - Kublai Khan TX at Brooklyn Paramount
END:VEVENT
END:VCALENDAR
