BEGIN:VCALENDAR
VERSION:2.0
PRODID:icalendar-ruby
CALSCALE:GREGORIAN
BEGIN:VEVENT
DTSTAMP:20260421T100345Z
UID:5f148c4e-350d-497f-af46-e57a7940f815
DTSTART:20260421T000000
DTEND:20260421T030000
DESCRIPTION:Kublai Khan TX live in concert at Buffalo RiverWorks
LOCATION:Buffalo RiverWorks\, Buffalo\, NY\, USA
ORGANIZER:mailto:events@ampwrecked.com
SUMMARY:Kublai Khan TX - Kublai Khan TX at Buffalo RiverWorks
END:VEVENT
END:VCALENDAR
