BEGIN:VCALENDAR
VERSION:2.0
PRODID:icalendar-ruby
CALSCALE:GREGORIAN
BEGIN:VEVENT
DTSTAMP:20260420T113944Z
UID:d2106618-6d82-4cbf-b67f-345291fc4159
DTSTART:20260710T000000
DTEND:20260710T030000
DESCRIPTION:Ok Pilocase live in concert at Music Hall
LOCATION:Music Hall\, Portsmouth\, NH\, USA
ORGANIZER:mailto:events@ampwrecked.com
SUMMARY:Ok Pilocase - Ok Pilocase at Music Hall
END:VEVENT
END:VCALENDAR
