BEGIN:VCALENDAR
VERSION:2.0
PRODID:icalendar-ruby
CALSCALE:GREGORIAN
BEGIN:VEVENT
DTSTAMP:20260421T041350Z
UID:0e432531-5c93-4b61-b7b5-d8e60f2855c8
DTSTART:20260519T000000
DTEND:20260519T030000
DESCRIPTION:Bayway NJ live in concert at The Nile Theater
LOCATION:The Nile Theater\, Mesa\, AZ\, USA
ORGANIZER:mailto:events@ampwrecked.com
SUMMARY:Bayway NJ - Bayway NJ at The Nile Theater
END:VEVENT
END:VCALENDAR
