BEGIN:VCALENDAR
VERSION:2.0
PRODID:icalendar-ruby
CALSCALE:GREGORIAN
BEGIN:VEVENT
DTSTAMP:20260421T023642Z
UID:63682ef9-943c-4fcd-803d-d55ebe7a303d
DTSTART:20260518T000000
DTEND:20260518T030000
DESCRIPTION:Bayway NJ live in concert at Sunshine Theater
LOCATION:Sunshine Theater\, Albuquerque\, NM\, USA
ORGANIZER:mailto:events@ampwrecked.com
SUMMARY:Bayway NJ - Bayway NJ at Sunshine Theater
END:VEVENT
END:VCALENDAR
