BEGIN:VCALENDAR
VERSION:2.0
PRODID:icalendar-ruby
CALSCALE:GREGORIAN
BEGIN:VEVENT
DTSTAMP:20260421T024123Z
UID:686ea8c9-99a1-44ab-ad52-837108de1560
DTSTART:20260516T000000
DTEND:20260516T030000
DESCRIPTION:Bayway NJ live in concert at Emo's Austin
LOCATION:Emo's Austin\, Austin\, TX\, USA
ORGANIZER:mailto:events@ampwrecked.com
SUMMARY:Bayway NJ - Bayway NJ at Emo's Austin
END:VEVENT
END:VCALENDAR
