BEGIN:VCALENDAR
VERSION:2.0
PRODID:icalendar-ruby
CALSCALE:GREGORIAN
BEGIN:VEVENT
DTSTAMP:20260421T023805Z
UID:c7c7cbf7-2456-47eb-993b-a0e4b7915dc7
DTSTART:20260515T000000
DTEND:20260515T030000
DESCRIPTION:Bayway NJ live in concert at Scout Bar
LOCATION:Scout Bar\, Houston\, TX\, USA
ORGANIZER:mailto:events@ampwrecked.com
SUMMARY:Bayway NJ - Bayway NJ at Scout Bar
END:VEVENT
END:VCALENDAR
