BEGIN:VCALENDAR
VERSION:2.0
PRODID:icalendar-ruby
CALSCALE:GREGORIAN
BEGIN:VEVENT
DTSTAMP:20260420T121650Z
UID:1e1155a0-9380-4266-a06c-fc7b37c346e6
DTSTART:20260624T000000
DTEND:20260624T030000
DESCRIPTION:Disarmer live in concert at Cannery Hall
LOCATION:Cannery Hall\, Nashville\, TN\, USA
ORGANIZER:mailto:events@ampwrecked.com
SUMMARY:Disarmer - Disarmer at Cannery Hall
END:VEVENT
END:VCALENDAR
