BEGIN:VCALENDAR
VERSION:2.0
PRODID:icalendar-ruby
CALSCALE:GREGORIAN
BEGIN:VEVENT
DTSTAMP:20260420T150320Z
UID:ce78a9b3-2384-40c4-8d3c-a35ffa760d06
DTSTART:20260426T000000
DTEND:20260426T030000
DESCRIPTION:Thoughts on Bowling live in concert at Tucson\, AZ
LOCATION:Tucson\, AZ\, Tucson\, AZ\, USA
ORGANIZER:mailto:events@ampwrecked.com
SUMMARY:Thoughts on Bowling - Thoughts on Bowling at Tucson\, AZ
END:VEVENT
END:VCALENDAR
