BEGIN:VCALENDAR
VERSION:2.0
PRODID:icalendar-ruby
CALSCALE:GREGORIAN
BEGIN:VEVENT
DTSTAMP:20260419T221808Z
UID:9a2daf42-477a-4b32-b98a-e231e3723415
DTSTART:20260425T000000
DTEND:20260425T030000
DESCRIPTION:Thoughts on Bowling live in concert at Los Angeles\, CA
LOCATION:Los Angeles\, CA\, Pomona\, CA\, USA
ORGANIZER:mailto:events@ampwrecked.com
SUMMARY:Thoughts on Bowling - Thoughts on Bowling at Los Angeles\, CA
END:VEVENT
END:VCALENDAR
