BEGIN:VCALENDAR
VERSION:2.0
PRODID:icalendar-ruby
CALSCALE:GREGORIAN
BEGIN:VEVENT
DTSTAMP:20260419T202851Z
UID:7b25a100-5dc5-47c5-ad38-6b6fc420667e
DTSTART:20260424T000000
DTEND:20260424T030000
DESCRIPTION:Thoughts on Bowling live in concert at Berkeley\, CA
LOCATION:Berkeley\, CA\, Berkeley\, CA\, USA
ORGANIZER:mailto:events@ampwrecked.com
SUMMARY:Thoughts on Bowling - Thoughts on Bowling at Berkeley\, CA
END:VEVENT
END:VCALENDAR
