BEGIN:VCALENDAR
VERSION:2.0
PRODID:icalendar-ruby
CALSCALE:GREGORIAN
BEGIN:VEVENT
DTSTAMP:20260419T202827Z
UID:16fcaa17-8bec-40bc-8134-5ea138820635
DTSTART:20260422T000000
DTEND:20260422T030000
DESCRIPTION:Thoughts on Bowling live in concert at Reno\, NV
LOCATION:Reno\, NV\, Reno\, NV\, USA
ORGANIZER:mailto:events@ampwrecked.com
SUMMARY:Thoughts on Bowling - Thoughts on Bowling at Reno\, NV
END:VEVENT
END:VCALENDAR
