BEGIN:VCALENDAR
VERSION:2.0
PRODID:icalendar-ruby
CALSCALE:GREGORIAN
BEGIN:VEVENT
DTSTAMP:20260419T202512Z
UID:5258172b-98c8-48eb-bf6a-f00c928045af
DTSTART:20260421T000000
DTEND:20260421T030000
DESCRIPTION:Thoughts on Bowling live in concert at Sacramento\, CA
LOCATION:Sacramento\, CA\, Citrus Heights\, CA\, USA
ORGANIZER:mailto:events@ampwrecked.com
SUMMARY:Thoughts on Bowling - Thoughts on Bowling at Sacramento\, CA
END:VEVENT
END:VCALENDAR
