BEGIN:VCALENDAR
VERSION:2.0
PRODID:icalendar-ruby
CALSCALE:GREGORIAN
BEGIN:VEVENT
DTSTAMP:20260420T145849Z
UID:f95f2d63-ca41-4b2f-85d3-f98a8b5643aa
DTSTART:20260428T000000
DTEND:20260428T030000
DESCRIPTION:The Test Dream live in concert at Puerto de Asunción
LOCATION:Puerto de Asunción\, Asunción\, \, Paraguay
ORGANIZER:mailto:events@ampwrecked.com
SUMMARY:The Test Dream - The Test Dream at Puerto de Asunción
END:VEVENT
END:VCALENDAR
