BEGIN:VCALENDAR
VERSION:2.0
PRODID:icalendar-ruby
CALSCALE:GREGORIAN
BEGIN:VEVENT
DTSTAMP:20260419T180936Z
UID:cd3fe129-26b0-4f2e-8b9c-3cb563945539
DTSTART:20260426T000000
DTEND:20260426T030000
DESCRIPTION:The Test Dream live in concert at Plaza de la música
LOCATION:Plaza de la música\, Córdoba\, \, Argentina
ORGANIZER:mailto:events@ampwrecked.com
SUMMARY:The Test Dream - The Test Dream at Plaza de la música
END:VEVENT
END:VCALENDAR
