BEGIN:VCALENDAR
VERSION:2.0
PRODID:icalendar-ruby
CALSCALE:GREGORIAN
BEGIN:VEVENT
DTSTAMP:20260419T161947Z
UID:b531f779-aced-4caa-b46d-4393a9a21c77
DTSTART:20260424T000000
DTEND:20260424T030000
DESCRIPTION:The Test Dream live in concert at Movistar Arena
LOCATION:Movistar Arena\, Buenos Aires\, \, Argentina
ORGANIZER:mailto:events@ampwrecked.com
SUMMARY:The Test Dream - The Test Dream at Movistar Arena
END:VEVENT
END:VCALENDAR
