BEGIN:VCALENDAR
VERSION:2.0
PRODID:icalendar-ruby
CALSCALE:GREGORIAN
BEGIN:VEVENT
DTSTAMP:20260420T150131Z
UID:6c193e95-2617-4f85-8f95-8af285d0d999
DTSTART:20260426T000000
DTEND:20260426T030000
DESCRIPTION:Fit For An Autopsy live in concert at MGM Music Hall at Fenway
LOCATION:MGM Music Hall at Fenway\, Boston\, MA\, USA
ORGANIZER:mailto:events@ampwrecked.com
SUMMARY:Fit For An Autopsy - Fit For An Autopsy at MGM Music Hall at Fenway
END:VEVENT
END:VCALENDAR
