BEGIN:VCALENDAR
VERSION:2.0
PRODID:icalendar-ruby
CALSCALE:GREGORIAN
BEGIN:VEVENT
DTSTAMP:20260422T125943Z
UID:518381ca-c4da-48eb-ae65-ccf0954018cb
DTSTART:20260425T000000
DTEND:20260425T030000
DESCRIPTION:Fit For An Autopsy live in concert at Mohegan Sun Arena
LOCATION:Mohegan Sun Arena\, Uncasville\, CT\, USA
ORGANIZER:mailto:events@ampwrecked.com
SUMMARY:Fit For An Autopsy - Fit For An Autopsy at Mohegan Sun Arena
END:VEVENT
END:VCALENDAR
