BEGIN:VCALENDAR
VERSION:2.0
PRODID:icalendar-ruby
CALSCALE:GREGORIAN
BEGIN:VEVENT
DTSTAMP:20260419T151737Z
UID:fd5e2c77-a24a-4cfa-94b1-1790999608a8
DTSTART:20260423T000000
DTEND:20260423T030000
DESCRIPTION:Fit For An Autopsy live in concert at Brooklyn Paramount
LOCATION:Brooklyn Paramount\, Brooklyn\, NY\, USA
ORGANIZER:mailto:events@ampwrecked.com
SUMMARY:Fit For An Autopsy - Fit For An Autopsy at Brooklyn Paramount
END:VEVENT
END:VCALENDAR
