BEGIN:VCALENDAR
VERSION:2.0
PRODID:icalendar-ruby
CALSCALE:GREGORIAN
BEGIN:VEVENT
DTSTAMP:20260419T132132Z
UID:3723c30c-46d8-4412-941d-d7577274a9a3
DTSTART:20260422T000000
DTEND:20260422T030000
DESCRIPTION:Fit For An Autopsy live in concert at Spirit
LOCATION:Spirit\, Pittsburgh\, PA\, USA
ORGANIZER:mailto:events@ampwrecked.com
SUMMARY:Fit For An Autopsy - Fit For An Autopsy at Spirit
END:VEVENT
END:VCALENDAR
