BEGIN:VCALENDAR
VERSION:2.0
PRODID:icalendar-ruby
CALSCALE:GREGORIAN
BEGIN:VEVENT
DTSTAMP:20260419T132121Z
UID:3773fc6b-8165-4fe7-b15b-aa37917f3ab2
DTSTART:20260421T000000
DTEND:20260421T030000
DESCRIPTION:Fit For An Autopsy live in concert at Buffalo RiverWorks
LOCATION:Buffalo RiverWorks\, Buffalo\, NY\, USA
ORGANIZER:mailto:events@ampwrecked.com
SUMMARY:Fit For An Autopsy - Fit For An Autopsy at Buffalo RiverWorks
END:VEVENT
END:VCALENDAR
