BEGIN:VCALENDAR
VERSION:2.0
PRODID:icalendar-ruby
CALSCALE:GREGORIAN
BEGIN:VEVENT
DTSTAMP:20260420T114005Z
UID:2fa1b85c-4dfb-435c-ba56-01d7d94b9a7e
DTSTART:20260517T000000
DTEND:20260517T030000
DESCRIPTION:Carly Cosgrove live in concert at Archer Music Hall
LOCATION:Archer Music Hall\, Allentown\, PA\, USA
ORGANIZER:mailto:events@ampwrecked.com
SUMMARY:Carly Cosgrove - Carly Cosgrove at Archer Music Hall
END:VEVENT
END:VCALENDAR
