BEGIN:VCALENDAR
VERSION:2.0
PRODID:icalendar-ruby
CALSCALE:GREGORIAN
BEGIN:VEVENT
DTSTAMP:20260420T150745Z
UID:cccc8b64-0a7d-4c05-afe7-5c3d9075dffe
DTSTART:20260429T000000
DTEND:20260429T030000
DESCRIPTION:Family Might live in concert at The Majestic Theatre
LOCATION:The Majestic Theatre\, Detroit\, MI\, USA
ORGANIZER:mailto:events@ampwrecked.com
SUMMARY:Family Might - Family Might at The Majestic Theatre
END:VEVENT
END:VCALENDAR
