BEGIN:VCALENDAR
VERSION:2.0
PRODID:icalendar-ruby
CALSCALE:GREGORIAN
BEGIN:VEVENT
DTSTAMP:20260420T133306Z
UID:1c3e3776-613d-458e-8107-3c86da52b779
DTSTART:20260513T000000
DTEND:20260513T030000
DESCRIPTION:Broadside live in concert at Dürer Kert
LOCATION:Dürer Kert\, Budapest\, \, Hungary
ORGANIZER:mailto:events@ampwrecked.com
SUMMARY:Broadside - Broadside at Dürer Kert
END:VEVENT
END:VCALENDAR
