BEGIN:VCALENDAR
VERSION:2.0
PRODID:icalendar-ruby
CALSCALE:GREGORIAN
BEGIN:VEVENT
DTSTAMP:20260420T114503Z
UID:12fae55f-a956-49f6-b31f-d74ec60f1fc2
DTSTART:20260512T000000
DTEND:20260512T030000
DESCRIPTION:Broadside live in concert at Flex
LOCATION:Flex\, Vienna\, \, Austria
ORGANIZER:mailto:events@ampwrecked.com
SUMMARY:Broadside - Broadside at Flex
END:VEVENT
END:VCALENDAR
