BEGIN:VCALENDAR
VERSION:2.0
PRODID:icalendar-ruby
CALSCALE:GREGORIAN
BEGIN:VEVENT
DTSTAMP:20260421T082935Z
UID:b02454e4-cb2e-4c36-9e01-e02c5cd812da
DTSTART:20260425T000000
DTEND:20260425T030000
DESCRIPTION:Bleed From Within live in concert at The Glass House
LOCATION:The Glass House\, Pomona\, CA\, USA
ORGANIZER:mailto:events@ampwrecked.com
SUMMARY:Bleed From Within - Bleed From Within at The Glass House
END:VEVENT
END:VCALENDAR
