BEGIN:VCALENDAR
VERSION:2.0
PRODID:icalendar-ruby
CALSCALE:GREGORIAN
BEGIN:VEVENT
DTSTAMP:20260421T064247Z
UID:e9778ace-cd93-42ff-abad-2c8bfa1fe14f
DTSTART:20260424T000000
DTEND:20260424T030000
DESCRIPTION:Bleed From Within live in concert at The Regent Theater
LOCATION:The Regent Theater\, Los Angeles\, CA\, USA
ORGANIZER:mailto:events@ampwrecked.com
SUMMARY:Bleed From Within - Bleed From Within at The Regent Theater
END:VEVENT
END:VCALENDAR
