BEGIN:VCALENDAR
VERSION:2.0
PRODID:icalendar-ruby
CALSCALE:GREGORIAN
BEGIN:VEVENT
DTSTAMP:20260419T235827Z
UID:8b42c894-4ddd-4fbb-901b-c268bea0fb1b
DTSTART:20260422T000000
DTEND:20260422T030000
DESCRIPTION:Bleed From Within live in concert at Goldfield Trading Post Ros
 eville
LOCATION:Goldfield Trading Post Roseville\, Roseville\, CA\, USA
ORGANIZER:mailto:events@ampwrecked.com
SUMMARY:Bleed From Within - Bleed From Within at Goldfield Trading Post Ros
 eville
END:VEVENT
END:VCALENDAR
