BEGIN:VCALENDAR
VERSION:2.0
PRODID:icalendar-ruby
CALSCALE:GREGORIAN
BEGIN:VEVENT
DTSTAMP:20260419T221948Z
UID:59fd6db8-584f-4d52-8d35-748254b7f3da
DTSTART:20260421T000000
DTEND:20260421T030000
DESCRIPTION:Bleed From Within live in concert at Hawthorne Theatre
LOCATION:Hawthorne Theatre\, Portland\, OR\, USA
ORGANIZER:mailto:events@ampwrecked.com
SUMMARY:Bleed From Within - Bleed From Within at Hawthorne Theatre
END:VEVENT
END:VCALENDAR
