BEGIN:VCALENDAR
VERSION:2.0
PRODID:icalendar-ruby
CALSCALE:GREGORIAN
BEGIN:VEVENT
DTSTAMP:20260420T113537Z
UID:44bb2f7e-58ee-45b4-be02-2c9c83b7e66a
DTSTART:20260424T000000
DTEND:20260424T030000
DESCRIPTION:The Maine live in concert at Marathon Music Works
LOCATION:Marathon Music Works\, Nashville\, TN\, USA
ORGANIZER:mailto:events@ampwrecked.com
SUMMARY:The Maine - The Maine at Marathon Music Works
END:VEVENT
END:VCALENDAR
