BEGIN:VCALENDAR
VERSION:2.0
PRODID:icalendar-ruby
CALSCALE:GREGORIAN
BEGIN:VEVENT
DTSTAMP:20260420T113410Z
UID:e5496cd1-9232-400f-bc41-948da377262d
DTSTART:20260423T000000
DTEND:20260423T030000
DESCRIPTION:The Maine live in concert at The Fillmore Charlotte
LOCATION:The Fillmore Charlotte\, Charlotte\, NC\, USA
ORGANIZER:mailto:events@ampwrecked.com
SUMMARY:The Maine - The Maine at The Fillmore Charlotte
END:VEVENT
END:VCALENDAR
