BEGIN:VCALENDAR
VERSION:2.0
PRODID:icalendar-ruby
CALSCALE:GREGORIAN
BEGIN:VEVENT
DTSTAMP:20260420T113416Z
UID:5e94c0d0-1d59-4034-a938-e0c77ed923eb
DTSTART:20260421T000000
DTEND:20260421T030000
DESCRIPTION:The Maine live in concert at Brooklyn Paramount
LOCATION:Brooklyn Paramount\, Brooklyn\, NY\, USA
ORGANIZER:mailto:events@ampwrecked.com
SUMMARY:The Maine - The Maine at Brooklyn Paramount
END:VEVENT
END:VCALENDAR
