BEGIN:VCALENDAR
VERSION:2.0
PRODID:icalendar-ruby
CALSCALE:GREGORIAN
BEGIN:VEVENT
DTSTAMP:20260420T145942Z
UID:1b86b4df-e4a0-410d-aab3-2c8dae3b9bb0
DTSTART:20260426T000000
DTEND:20260426T030000
DESCRIPTION:Grayscale live in concert at House of Blues Orlando
LOCATION:House of Blues Orlando\, Lake Buena Vista\, FL\, USA
ORGANIZER:mailto:events@ampwrecked.com
SUMMARY:Grayscale - Grayscale at House of Blues Orlando
END:VEVENT
END:VCALENDAR
